BEGIN:VCALENDAR
VERSION:2.0
PRODID:icalendar-ruby
CALSCALE:GREGORIAN
METHOD:PUBLISH
DESCRIPTION:Plantings by PunkNPoultry
BEGIN:VEVENT
DTSTAMP:20260426T034322Z
UID:5b272a33-59a3-41e3-bd51-47d07c245195
DTSTART:20260425T163923
DTEND:20260427T034322
CLASS:PUBLIC
DESCRIPTION:Quantity: 6\nPlanted on: 2026-04-25\nSunniness: sun\nPlanted fr
 om: seed\nFirst harvest from: unknown\nLast harvest from: unknown\nFinish 
 predicted at: unknown\nFinished at: unknown\nPink Beauty.
SUMMARY:amaranth
URL;VALUE=URI:https://growstuff-prod.herokuapp.com/plantings/punknpoultry-g
 arden-amaranth
END:VEVENT
BEGIN:VEVENT
DTSTAMP:20260426T034322Z
UID:d9fe31f1-174b-4cab-847e-0263321e066b
DTSTART:20260425T164107
DTEND:20260507T000000
CLASS:PUBLIC
DESCRIPTION:Quantity: 5\nPlanted on: 2026-03-12\nSunniness: sun\nPlanted fr
 om: seed\nFirst harvest from: unknown\nLast harvest from: unknown\nFinish 
 predicted at: 2026-05-07\nFinished at: unknown\nGarden Leader Monster. 85-
 90
SUMMARY:watermelon
URL;VALUE=URI:https://growstuff-prod.herokuapp.com/plantings/punknpoultry-g
 arden-watermelon-radish
END:VEVENT
BEGIN:VEVENT
DTSTAMP:20260426T034322Z
UID:54d5f782-0e1c-4d53-9d8a-61c149a827b6
DTSTART:20260507T000000
DTEND:20260507T000000
CLASS:PUBLIC
SUMMARY:Harvest watermelon
URL;VALUE=URI:https://growstuff-prod.herokuapp.com/plantings/punknpoultry-g
 arden-watermelon-radish
END:VEVENT
BEGIN:VTODO
DTSTAMP:20260426T034322Z
UID:14789d55-8487-4b65-aab1-3ef0f674e658
DTSTART:20260507T000000
DUE:20260507T000000
SUMMARY:Harvest watermelon
END:VTODO
END:VCALENDAR

